BEGIN:VCALENDAR
VERSION:2.0
PRODID:-//Minnesota AGD - ECPv6.15.20//NONSGML v1.0//EN
CALSCALE:GREGORIAN
METHOD:PUBLISH
X-ORIGINAL-URL:https://mnagd.org
X-WR-CALDESC:Events for Minnesota AGD
REFRESH-INTERVAL;VALUE=DURATION:PT1H
X-Robots-Tag:noindex
X-PUBLISHED-TTL:PT1H
BEGIN:VTIMEZONE
TZID:UTC
BEGIN:STANDARD
TZOFFSETFROM:+0000
TZOFFSETTO:+0000
TZNAME:UTC
DTSTART:19690101T000000
END:STANDARD
END:VTIMEZONE
BEGIN:VEVENT
DTSTART;TZID=UTC:20260421T145213
DTEND;TZID=UTC:20241025T083000
DTSTAMP:20260421T145213
CREATED:20241025T214429Z
LAST-MODIFIED:20241025T214429Z
UID:2351-0-1729845000@mnagd.org
SUMMARY:APEX Meeting
DESCRIPTION:
URL:https://mnagd.org/event/apex-meeting-17/
LOCATION:MN
END:VEVENT
BEGIN:VEVENT
DTSTART;TZID=UTC:20161205T183000
DTEND;TZID=UTC:20161205T203000
DTSTAMP:20260421T145213
CREATED:20160816T211134Z
LAST-MODIFIED:20160816T211134Z
UID:1427-1480962600-1480969800@mnagd.org
SUMMARY:MEMBERSHIP Committee Meeting
DESCRIPTION:
URL:https://mnagd.org/event/membership-committee-meeting-2/
LOCATION:Stephano’s
ORGANIZER;CN="Minnesota AGD":MAILTO:minnesotaagd@gmail.com
END:VEVENT
BEGIN:VEVENT
DTSTART;TZID=UTC:20161207T183000
DTEND;TZID=UTC:20161207T203000
DTSTAMP:20260421T145213
CREATED:20160816T175011Z
LAST-MODIFIED:20160816T175011Z
UID:1419-1481135400-1481142600@mnagd.org
SUMMARY:APEX - Education Committee Meeting
DESCRIPTION:
URL:https://mnagd.org/event/apex-education-committee-meeting-3/
LOCATION:Perkins\, 3855 Lexington Ave N\, Arden Hills\, 3855 North Lexington Ave. \, Arden Hills\, MN\,  55126\, United States
ORGANIZER;CN="Minnesota AGD":MAILTO:minnesotaagd@gmail.com
END:VEVENT
BEGIN:VEVENT
DTSTART;TZID=UTC:20161214T183000
DTEND;TZID=UTC:20161214T203000
DTSTAMP:20260421T145213
CREATED:20160816T165848Z
LAST-MODIFIED:20160816T165848Z
UID:1408-1481740200-1481747400@mnagd.org
SUMMARY:MN AGD BOARD Meeting
DESCRIPTION:
URL:https://mnagd.org/event/mn-agd-board-meeting-10/
LOCATION:Double Tree Hotel\, Roseville\, 2540 Cleveland Ave N\, Roseville\, MN\, 55113\, United States
ORGANIZER;CN="Minnesota AGD":MAILTO:minnesotaagd@gmail.com
END:VEVENT
END:VCALENDAR